BEGIN:VCALENDAR
PRODID:-//github.com/rianjs/ical.net//NONSGML ical.net 2.2//EN
VERSION:2.0
BEGIN:VEVENT
CATEGORIES:Altres
CREATED;TZID=Europe/Madrid:20260423T040122
DESCRIPTION:<table class="table">\n	<tbody><tr>\n		<td style="width:100px\
 ; text-align: left\;">Dirigit a:</td>\n		<td style="text-align: left\;">A
 quest curs est? destinat a tots aquells professionals i directius que bus
 quen augmentar\nla seva productivitat personal i millorar la seva gesti? 
 de el temps.</td>\n	</tr>\n	<tr>\n		<td style="width:100px\; text-align: 
 left\;">Dates:</td>\n		<td style="text-align: left\;">28\, 30 de setembre
 \; 5 i 7 d'octubre (dimarts i dijous)</td>\n	</tr>\n	<tr>\n		<td style="w
 idth:100px\; text-align: left\;">Horari:</td>\n		<td style="text-align: l
 eft\;">De 16.00 a 19.00 hores</td>\n	</tr>\n	<tr>\n		<td style="width:100
 px\; text-align: left\;">Assistents:</td>\n		<td style="text-align: left\
 ;">M?nim 8</td>\n	</tr>\n	<tr>\n		<td style="width:100px\; text-align: le
 ft\;">Durada:</td>\n		<td style="text-align: left\;">12 hores</td>\n	</tr
 >\n	<tr>\n		<td style="width:100px\; text-align: left\;">Programaci?:</td
 >\n		<td style="text-align: left\;"><p><strong>1. LA GESTI? DEL TEMPS</st
 rong></p><ul><li>Efic?cia i efici?ncia</li></ul><ul><li>El parany de l'ac
 tivitat</li></ul><ul><li>Els lladres de temps</li></ul><ul><li>Urgent vs.
  important</li></ul><ul><li>Matriu Eisenhower</li></ul><ul><li>Eliminar a
 bans d'optimitzar</li></ul><ul><li>Les prioritats\n</li></ul><p><strong>2
 . ADAPTAR LA PRODUCTIVITAT A LA NOSTRA PERSONALITAT</strong></p><ul><li>C
 om ?s la teva personalitat en relaci? a la gesti? del temps?</li></ul><ul
 ><li>Les fuites de la productivitat</li></ul><ul><li>La procrastinaci?</l
 i></ul><ul><li>La roda de la productivitat i l'energia vital</li></ul><ul
 ><li>Eneagrama i gesti? del temps</li></ul><ul><li>Com millorar la produc
 tivitat segons la nostra personalitat</li></ul><p><strong>3. PRODUCTIVITA
 T PERSONAL</strong></p><ul><li>Les claus de la productivitat</li></ul><ul
 ><li>Prioritats i planificaci?</li></ul><ul><li>Eines de productivitat pe
 rsonal</li></ul><ul><li>El sistema d'informaci? personal</li></ul><ul><li
 >La gesti? de tasques</li></ul><ul><li>Teletreball i Productivitat</li></
 ul><ul><li>Eines col?laboratives</li></ul><p><strong>4 CANVI D'H?BITS</st
 rong></p><ul><li>H?bits i Disciplina</li></ul><ul><li>Moviment vs. acci?<
 /li></ul><ul><li>H?bits que condueixen a l'?xit</li></ul><ul><li>Difer?nc
 ia entre metes i sistemes</li></ul><ul><li>El cicle dels h?bits</li></ul>
 <ul><li>T?cniques per al canvi d'h?bits<br></li></ul></td>\n	</tr>\n	<tr>
 \n		<td style="width:100px\; text-align: left\;">Documentaci?:</td>\n		<t
 d style="text-align: left\;">La documentaci? estar? disponible a la plata
 forma entre 24 i 48 hores abans de l?inici de la formaci?. En el cas que 
 hi hagi documentaci? addicional una vegada finalitzada la formaci?\, us l
 a facilitarem posteriorment.</td>\n	</tr>\n	<tr>\n		<td style="width:100p
 x\; text-align: left\;">Certificaci?:</td>\n		<td style="text-align: left
 \;">Una vegada finalitzada l?acci? formativa\, els alumnes obtindran un c
 ertificat d?assist?ncia que es podran descarregar a la plataforma.  </td>
 \n	</tr>\n	<tr>\n		<td style="width:100px\; text-align: left\;">Objectius
 :</td>\n		<td style="" class=""><ol><li>Que la productivitat comen?a per 
 un mateix Tots els professionals disposen del mateix temps cada dia i la 
 clau est? a saber aprofitar-ho.</li><li>Que el teu problema no ?s una q?e
 sti? de temps\, sin? de prioritzar les tasques i dur a\nterme un canvi d'
 h?bits adequat a l'hora d'organitzar el teu treball i el del teu equip.</
 li><li>A reduir les interrupcions i les distraccions\; que al costat de l
 a mala organitzaci? s?n\ngrans enemics de la productivitat personal.</li>
 <li>El secret per a una gesti? de el temps satisfact?ria resideix en treb
 allar segons els punts\nforts de la teva personalitat. La coneixes b??\nE
 n aquest curs abordarem diferents metodologies i eines que ens permetran\
 ,\nentre altres coses\, identificar els lladres de temps\, assignar prior
 itats i diferenciar l' urgent del que ?s important\, per tal de millorar 
 la nostra productivitat personal.\nAquests conceptes s?n universals i per
  treure'n el major partit cada persona ha de\nadaptar-los a les seves nec
 essitats en funci? del seu car?cter i la seva personalitat. </li></ol></t
 d>\n	</tr>\n	\n	\n\n<tr><td style="width:100px\; text-align: left\;">&nbs
 p\;Documentaci?:</td><td class="" style=""><p>&nbsp\;Documentaci?:Una veg
 ada finalitzada l?acci? formativa\, els alumnes obtindran un certificat d
 ?assist?ncia que es podran descarregar a la plataforma.</p><p>&nbsp\;</p>
 </td></tr><tr><td style="width:100px\; text-align: left\;">&nbsp\;Bonific
 acions:</td><td class="" style=""><p>&nbsp\;Gestionem els tr?mits per tal
  que puguis beneficiar-te de la bonificaci? corresponent per formaci?.</p
 ><p>&nbsp\;</p></td></tr><tr><td style="width:100px\; text-align: left\;"
 >&nbsp\;Instruccions per bonificar:</td><td class="" style=""><p>&nbsp\;1
 .&nbsp\;Sol?licita els impresos al CETIT a formacio@enginyerstarragona.ca
 t&nbsp\; &nbsp\;2. Aporta tota la informaci? 10 dies naturals abans de l'
 inici del curs.&nbsp\;3. NOTA IMPORTANT: les bonificacions es porten a te
 rme per mitj? d'una assessoria externa. Aquells que vulguin acollir-se a 
 la bonificaci? de qualsevol acci? formativa\, el preu s'incrementar? en u
 n 20 % ( que tamb? es podr? bonificar i recuperar).&nbsp\;</p><p>&nbsp\;<
 /p></td></tr><tr><td style="width:100px\; text-align: left\;">&nbsp\;Form
 a de pagament:</td><td class=""><p>&nbsp\;Cobrament a trav?s del seu n?me
 ro de compte\, que haur? de facilitar a l?hora de fer la inscripci?.</p><
 p>&nbsp\;</p></td></tr></tbody></table>
DTEND;TZID=Europe/Madrid:20210928T190000
DTSTAMP:20260423T020122Z
DTSTART;TZID=Europe/Madrid:20210928T160000
LOCATION:https://www.enginyerstarragona.cat/agenda/details/1721/1721-curs-
 on-line-streaming-productivitat-personal
SEQUENCE:0
SUMMARY:[Curs on line streaming]  PRODUCTIVITAT PERSONAL\, GESTI? DEL TEMP
 S I CANVI D'H?BITS
UID:ET_Activitat_1721
URL:https://www.enginyerstarragona.cathttps://www.enginyerstarragona.cat/a
 genda/details/1721/1721-curs-on-line-streaming-productivitat-personal
END:VEVENT
BEGIN:VEVENT
CATEGORIES:Altres
CREATED;TZID=Europe/Madrid:20260423T040122
DESCRIPTION:<table class="table">\n	<tbody><tr>\n		<td style="width:100px\
 ; text-align: left\;">Dirigit a:</td>\n		<td style="text-align: left\;">A
 quest curs est? destinat a tots aquells professionals i directius que bus
 quen augmentar\nla seva productivitat personal i millorar la seva gesti? 
 de el temps.</td>\n	</tr>\n	<tr>\n		<td style="width:100px\; text-align: 
 left\;">Dates:</td>\n		<td style="text-align: left\;">28\, 30 de setembre
 \; 5 i 7 d'octubre (dimarts i dijous)</td>\n	</tr>\n	<tr>\n		<td style="w
 idth:100px\; text-align: left\;">Horari:</td>\n		<td style="text-align: l
 eft\;">De 16.00 a 19.00 hores</td>\n	</tr>\n	<tr>\n		<td style="width:100
 px\; text-align: left\;">Assistents:</td>\n		<td style="text-align: left\
 ;">M?nim 8</td>\n	</tr>\n	<tr>\n		<td style="width:100px\; text-align: le
 ft\;">Durada:</td>\n		<td style="text-align: left\;">12 hores</td>\n	</tr
 >\n	<tr>\n		<td style="width:100px\; text-align: left\;">Programaci?:</td
 >\n		<td style="text-align: left\;"><p><strong>1. LA GESTI? DEL TEMPS</st
 rong></p><ul><li>Efic?cia i efici?ncia</li></ul><ul><li>El parany de l'ac
 tivitat</li></ul><ul><li>Els lladres de temps</li></ul><ul><li>Urgent vs.
  important</li></ul><ul><li>Matriu Eisenhower</li></ul><ul><li>Eliminar a
 bans d'optimitzar</li></ul><ul><li>Les prioritats\n</li></ul><p><strong>2
 . ADAPTAR LA PRODUCTIVITAT A LA NOSTRA PERSONALITAT</strong></p><ul><li>C
 om ?s la teva personalitat en relaci? a la gesti? del temps?</li></ul><ul
 ><li>Les fuites de la productivitat</li></ul><ul><li>La procrastinaci?</l
 i></ul><ul><li>La roda de la productivitat i l'energia vital</li></ul><ul
 ><li>Eneagrama i gesti? del temps</li></ul><ul><li>Com millorar la produc
 tivitat segons la nostra personalitat</li></ul><p><strong>3. PRODUCTIVITA
 T PERSONAL</strong></p><ul><li>Les claus de la productivitat</li></ul><ul
 ><li>Prioritats i planificaci?</li></ul><ul><li>Eines de productivitat pe
 rsonal</li></ul><ul><li>El sistema d'informaci? personal</li></ul><ul><li
 >La gesti? de tasques</li></ul><ul><li>Teletreball i Productivitat</li></
 ul><ul><li>Eines col?laboratives</li></ul><p><strong>4 CANVI D'H?BITS</st
 rong></p><ul><li>H?bits i Disciplina</li></ul><ul><li>Moviment vs. acci?<
 /li></ul><ul><li>H?bits que condueixen a l'?xit</li></ul><ul><li>Difer?nc
 ia entre metes i sistemes</li></ul><ul><li>El cicle dels h?bits</li></ul>
 <ul><li>T?cniques per al canvi d'h?bits<br></li></ul></td>\n	</tr>\n	<tr>
 \n		<td style="width:100px\; text-align: left\;">Documentaci?:</td>\n		<t
 d style="text-align: left\;">La documentaci? estar? disponible a la plata
 forma entre 24 i 48 hores abans de l?inici de la formaci?. En el cas que 
 hi hagi documentaci? addicional una vegada finalitzada la formaci?\, us l
 a facilitarem posteriorment.</td>\n	</tr>\n	<tr>\n		<td style="width:100p
 x\; text-align: left\;">Certificaci?:</td>\n		<td style="text-align: left
 \;">Una vegada finalitzada l?acci? formativa\, els alumnes obtindran un c
 ertificat d?assist?ncia que es podran descarregar a la plataforma.  </td>
 \n	</tr>\n	<tr>\n		<td style="width:100px\; text-align: left\;">Objectius
 :</td>\n		<td style="" class=""><ol><li>Que la productivitat comen?a per 
 un mateix Tots els professionals disposen del mateix temps cada dia i la 
 clau est? a saber aprofitar-ho.</li><li>Que el teu problema no ?s una q?e
 sti? de temps\, sin? de prioritzar les tasques i dur a\nterme un canvi d'
 h?bits adequat a l'hora d'organitzar el teu treball i el del teu equip.</
 li><li>A reduir les interrupcions i les distraccions\; que al costat de l
 a mala organitzaci? s?n\ngrans enemics de la productivitat personal.</li>
 <li>El secret per a una gesti? de el temps satisfact?ria resideix en treb
 allar segons els punts\nforts de la teva personalitat. La coneixes b??\nE
 n aquest curs abordarem diferents metodologies i eines que ens permetran\
 ,\nentre altres coses\, identificar els lladres de temps\, assignar prior
 itats i diferenciar l' urgent del que ?s important\, per tal de millorar 
 la nostra productivitat personal.\nAquests conceptes s?n universals i per
  treure'n el major partit cada persona ha de\nadaptar-los a les seves nec
 essitats en funci? del seu car?cter i la seva personalitat. </li></ol></t
 d>\n	</tr>\n	\n	\n\n<tr><td style="width:100px\; text-align: left\;">&nbs
 p\;Documentaci?:</td><td class="" style=""><p>&nbsp\;Documentaci?:Una veg
 ada finalitzada l?acci? formativa\, els alumnes obtindran un certificat d
 ?assist?ncia que es podran descarregar a la plataforma.</p><p>&nbsp\;</p>
 </td></tr><tr><td style="width:100px\; text-align: left\;">&nbsp\;Bonific
 acions:</td><td class="" style=""><p>&nbsp\;Gestionem els tr?mits per tal
  que puguis beneficiar-te de la bonificaci? corresponent per formaci?.</p
 ><p>&nbsp\;</p></td></tr><tr><td style="width:100px\; text-align: left\;"
 >&nbsp\;Instruccions per bonificar:</td><td class="" style=""><p>&nbsp\;1
 .&nbsp\;Sol?licita els impresos al CETIT a formacio@enginyerstarragona.ca
 t&nbsp\; &nbsp\;2. Aporta tota la informaci? 10 dies naturals abans de l'
 inici del curs.&nbsp\;3. NOTA IMPORTANT: les bonificacions es porten a te
 rme per mitj? d'una assessoria externa. Aquells que vulguin acollir-se a 
 la bonificaci? de qualsevol acci? formativa\, el preu s'incrementar? en u
 n 20 % ( que tamb? es podr? bonificar i recuperar).&nbsp\;</p><p>&nbsp\;<
 /p></td></tr><tr><td style="width:100px\; text-align: left\;">&nbsp\;Form
 a de pagament:</td><td class=""><p>&nbsp\;Cobrament a trav?s del seu n?me
 ro de compte\, que haur? de facilitar a l?hora de fer la inscripci?.</p><
 p>&nbsp\;</p></td></tr></tbody></table>
DTEND;TZID=Europe/Madrid:20210930T190000
DTSTAMP:20260423T020122Z
DTSTART;TZID=Europe/Madrid:20210930T160000
LOCATION:https://www.enginyerstarragona.cat/agenda/details/1721/1721-curs-
 on-line-streaming-productivitat-personal
SEQUENCE:0
SUMMARY:[Curs on line streaming]  PRODUCTIVITAT PERSONAL\, GESTI? DEL TEMP
 S I CANVI D'H?BITS
UID:ET_Activitat_1721
URL:https://www.enginyerstarragona.cathttps://www.enginyerstarragona.cat/a
 genda/details/1721/1721-curs-on-line-streaming-productivitat-personal
END:VEVENT
BEGIN:VEVENT
CATEGORIES:Altres
CREATED;TZID=Europe/Madrid:20260423T040122
DESCRIPTION:<table class="table">\n	<tbody><tr>\n		<td style="width:100px\
 ; text-align: left\;">Dirigit a:</td>\n		<td style="text-align: left\;">A
 quest curs est? destinat a tots aquells professionals i directius que bus
 quen augmentar\nla seva productivitat personal i millorar la seva gesti? 
 de el temps.</td>\n	</tr>\n	<tr>\n		<td style="width:100px\; text-align: 
 left\;">Dates:</td>\n		<td style="text-align: left\;">28\, 30 de setembre
 \; 5 i 7 d'octubre (dimarts i dijous)</td>\n	</tr>\n	<tr>\n		<td style="w
 idth:100px\; text-align: left\;">Horari:</td>\n		<td style="text-align: l
 eft\;">De 16.00 a 19.00 hores</td>\n	</tr>\n	<tr>\n		<td style="width:100
 px\; text-align: left\;">Assistents:</td>\n		<td style="text-align: left\
 ;">M?nim 8</td>\n	</tr>\n	<tr>\n		<td style="width:100px\; text-align: le
 ft\;">Durada:</td>\n		<td style="text-align: left\;">12 hores</td>\n	</tr
 >\n	<tr>\n		<td style="width:100px\; text-align: left\;">Programaci?:</td
 >\n		<td style="text-align: left\;"><p><strong>1. LA GESTI? DEL TEMPS</st
 rong></p><ul><li>Efic?cia i efici?ncia</li></ul><ul><li>El parany de l'ac
 tivitat</li></ul><ul><li>Els lladres de temps</li></ul><ul><li>Urgent vs.
  important</li></ul><ul><li>Matriu Eisenhower</li></ul><ul><li>Eliminar a
 bans d'optimitzar</li></ul><ul><li>Les prioritats\n</li></ul><p><strong>2
 . ADAPTAR LA PRODUCTIVITAT A LA NOSTRA PERSONALITAT</strong></p><ul><li>C
 om ?s la teva personalitat en relaci? a la gesti? del temps?</li></ul><ul
 ><li>Les fuites de la productivitat</li></ul><ul><li>La procrastinaci?</l
 i></ul><ul><li>La roda de la productivitat i l'energia vital</li></ul><ul
 ><li>Eneagrama i gesti? del temps</li></ul><ul><li>Com millorar la produc
 tivitat segons la nostra personalitat</li></ul><p><strong>3. PRODUCTIVITA
 T PERSONAL</strong></p><ul><li>Les claus de la productivitat</li></ul><ul
 ><li>Prioritats i planificaci?</li></ul><ul><li>Eines de productivitat pe
 rsonal</li></ul><ul><li>El sistema d'informaci? personal</li></ul><ul><li
 >La gesti? de tasques</li></ul><ul><li>Teletreball i Productivitat</li></
 ul><ul><li>Eines col?laboratives</li></ul><p><strong>4 CANVI D'H?BITS</st
 rong></p><ul><li>H?bits i Disciplina</li></ul><ul><li>Moviment vs. acci?<
 /li></ul><ul><li>H?bits que condueixen a l'?xit</li></ul><ul><li>Difer?nc
 ia entre metes i sistemes</li></ul><ul><li>El cicle dels h?bits</li></ul>
 <ul><li>T?cniques per al canvi d'h?bits<br></li></ul></td>\n	</tr>\n	<tr>
 \n		<td style="width:100px\; text-align: left\;">Documentaci?:</td>\n		<t
 d style="text-align: left\;">La documentaci? estar? disponible a la plata
 forma entre 24 i 48 hores abans de l?inici de la formaci?. En el cas que 
 hi hagi documentaci? addicional una vegada finalitzada la formaci?\, us l
 a facilitarem posteriorment.</td>\n	</tr>\n	<tr>\n		<td style="width:100p
 x\; text-align: left\;">Certificaci?:</td>\n		<td style="text-align: left
 \;">Una vegada finalitzada l?acci? formativa\, els alumnes obtindran un c
 ertificat d?assist?ncia que es podran descarregar a la plataforma.  </td>
 \n	</tr>\n	<tr>\n		<td style="width:100px\; text-align: left\;">Objectius
 :</td>\n		<td style="" class=""><ol><li>Que la productivitat comen?a per 
 un mateix Tots els professionals disposen del mateix temps cada dia i la 
 clau est? a saber aprofitar-ho.</li><li>Que el teu problema no ?s una q?e
 sti? de temps\, sin? de prioritzar les tasques i dur a\nterme un canvi d'
 h?bits adequat a l'hora d'organitzar el teu treball i el del teu equip.</
 li><li>A reduir les interrupcions i les distraccions\; que al costat de l
 a mala organitzaci? s?n\ngrans enemics de la productivitat personal.</li>
 <li>El secret per a una gesti? de el temps satisfact?ria resideix en treb
 allar segons els punts\nforts de la teva personalitat. La coneixes b??\nE
 n aquest curs abordarem diferents metodologies i eines que ens permetran\
 ,\nentre altres coses\, identificar els lladres de temps\, assignar prior
 itats i diferenciar l' urgent del que ?s important\, per tal de millorar 
 la nostra productivitat personal.\nAquests conceptes s?n universals i per
  treure'n el major partit cada persona ha de\nadaptar-los a les seves nec
 essitats en funci? del seu car?cter i la seva personalitat. </li></ol></t
 d>\n	</tr>\n	\n	\n\n<tr><td style="width:100px\; text-align: left\;">&nbs
 p\;Documentaci?:</td><td class="" style=""><p>&nbsp\;Documentaci?:Una veg
 ada finalitzada l?acci? formativa\, els alumnes obtindran un certificat d
 ?assist?ncia que es podran descarregar a la plataforma.</p><p>&nbsp\;</p>
 </td></tr><tr><td style="width:100px\; text-align: left\;">&nbsp\;Bonific
 acions:</td><td class="" style=""><p>&nbsp\;Gestionem els tr?mits per tal
  que puguis beneficiar-te de la bonificaci? corresponent per formaci?.</p
 ><p>&nbsp\;</p></td></tr><tr><td style="width:100px\; text-align: left\;"
 >&nbsp\;Instruccions per bonificar:</td><td class="" style=""><p>&nbsp\;1
 .&nbsp\;Sol?licita els impresos al CETIT a formacio@enginyerstarragona.ca
 t&nbsp\; &nbsp\;2. Aporta tota la informaci? 10 dies naturals abans de l'
 inici del curs.&nbsp\;3. NOTA IMPORTANT: les bonificacions es porten a te
 rme per mitj? d'una assessoria externa. Aquells que vulguin acollir-se a 
 la bonificaci? de qualsevol acci? formativa\, el preu s'incrementar? en u
 n 20 % ( que tamb? es podr? bonificar i recuperar).&nbsp\;</p><p>&nbsp\;<
 /p></td></tr><tr><td style="width:100px\; text-align: left\;">&nbsp\;Form
 a de pagament:</td><td class=""><p>&nbsp\;Cobrament a trav?s del seu n?me
 ro de compte\, que haur? de facilitar a l?hora de fer la inscripci?.</p><
 p>&nbsp\;</p></td></tr></tbody></table>
DTEND;TZID=Europe/Madrid:20211005T190000
DTSTAMP:20260423T020122Z
DTSTART;TZID=Europe/Madrid:20211005T160000
LOCATION:https://www.enginyerstarragona.cat/agenda/details/1721/1721-curs-
 on-line-streaming-productivitat-personal
SEQUENCE:0
SUMMARY:[Curs on line streaming]  PRODUCTIVITAT PERSONAL\, GESTI? DEL TEMP
 S I CANVI D'H?BITS
UID:ET_Activitat_1721
URL:https://www.enginyerstarragona.cathttps://www.enginyerstarragona.cat/a
 genda/details/1721/1721-curs-on-line-streaming-productivitat-personal
END:VEVENT
BEGIN:VEVENT
CATEGORIES:Altres
CREATED;TZID=Europe/Madrid:20260423T040122
DESCRIPTION:<table class="table">\n	<tbody><tr>\n		<td style="width:100px\
 ; text-align: left\;">Dirigit a:</td>\n		<td style="text-align: left\;">A
 quest curs est? destinat a tots aquells professionals i directius que bus
 quen augmentar\nla seva productivitat personal i millorar la seva gesti? 
 de el temps.</td>\n	</tr>\n	<tr>\n		<td style="width:100px\; text-align: 
 left\;">Dates:</td>\n		<td style="text-align: left\;">28\, 30 de setembre
 \; 5 i 7 d'octubre (dimarts i dijous)</td>\n	</tr>\n	<tr>\n		<td style="w
 idth:100px\; text-align: left\;">Horari:</td>\n		<td style="text-align: l
 eft\;">De 16.00 a 19.00 hores</td>\n	</tr>\n	<tr>\n		<td style="width:100
 px\; text-align: left\;">Assistents:</td>\n		<td style="text-align: left\
 ;">M?nim 8</td>\n	</tr>\n	<tr>\n		<td style="width:100px\; text-align: le
 ft\;">Durada:</td>\n		<td style="text-align: left\;">12 hores</td>\n	</tr
 >\n	<tr>\n		<td style="width:100px\; text-align: left\;">Programaci?:</td
 >\n		<td style="text-align: left\;"><p><strong>1. LA GESTI? DEL TEMPS</st
 rong></p><ul><li>Efic?cia i efici?ncia</li></ul><ul><li>El parany de l'ac
 tivitat</li></ul><ul><li>Els lladres de temps</li></ul><ul><li>Urgent vs.
  important</li></ul><ul><li>Matriu Eisenhower</li></ul><ul><li>Eliminar a
 bans d'optimitzar</li></ul><ul><li>Les prioritats\n</li></ul><p><strong>2
 . ADAPTAR LA PRODUCTIVITAT A LA NOSTRA PERSONALITAT</strong></p><ul><li>C
 om ?s la teva personalitat en relaci? a la gesti? del temps?</li></ul><ul
 ><li>Les fuites de la productivitat</li></ul><ul><li>La procrastinaci?</l
 i></ul><ul><li>La roda de la productivitat i l'energia vital</li></ul><ul
 ><li>Eneagrama i gesti? del temps</li></ul><ul><li>Com millorar la produc
 tivitat segons la nostra personalitat</li></ul><p><strong>3. PRODUCTIVITA
 T PERSONAL</strong></p><ul><li>Les claus de la productivitat</li></ul><ul
 ><li>Prioritats i planificaci?</li></ul><ul><li>Eines de productivitat pe
 rsonal</li></ul><ul><li>El sistema d'informaci? personal</li></ul><ul><li
 >La gesti? de tasques</li></ul><ul><li>Teletreball i Productivitat</li></
 ul><ul><li>Eines col?laboratives</li></ul><p><strong>4 CANVI D'H?BITS</st
 rong></p><ul><li>H?bits i Disciplina</li></ul><ul><li>Moviment vs. acci?<
 /li></ul><ul><li>H?bits que condueixen a l'?xit</li></ul><ul><li>Difer?nc
 ia entre metes i sistemes</li></ul><ul><li>El cicle dels h?bits</li></ul>
 <ul><li>T?cniques per al canvi d'h?bits<br></li></ul></td>\n	</tr>\n	<tr>
 \n		<td style="width:100px\; text-align: left\;">Documentaci?:</td>\n		<t
 d style="text-align: left\;">La documentaci? estar? disponible a la plata
 forma entre 24 i 48 hores abans de l?inici de la formaci?. En el cas que 
 hi hagi documentaci? addicional una vegada finalitzada la formaci?\, us l
 a facilitarem posteriorment.</td>\n	</tr>\n	<tr>\n		<td style="width:100p
 x\; text-align: left\;">Certificaci?:</td>\n		<td style="text-align: left
 \;">Una vegada finalitzada l?acci? formativa\, els alumnes obtindran un c
 ertificat d?assist?ncia que es podran descarregar a la plataforma.  </td>
 \n	</tr>\n	<tr>\n		<td style="width:100px\; text-align: left\;">Objectius
 :</td>\n		<td style="" class=""><ol><li>Que la productivitat comen?a per 
 un mateix Tots els professionals disposen del mateix temps cada dia i la 
 clau est? a saber aprofitar-ho.</li><li>Que el teu problema no ?s una q?e
 sti? de temps\, sin? de prioritzar les tasques i dur a\nterme un canvi d'
 h?bits adequat a l'hora d'organitzar el teu treball i el del teu equip.</
 li><li>A reduir les interrupcions i les distraccions\; que al costat de l
 a mala organitzaci? s?n\ngrans enemics de la productivitat personal.</li>
 <li>El secret per a una gesti? de el temps satisfact?ria resideix en treb
 allar segons els punts\nforts de la teva personalitat. La coneixes b??\nE
 n aquest curs abordarem diferents metodologies i eines que ens permetran\
 ,\nentre altres coses\, identificar els lladres de temps\, assignar prior
 itats i diferenciar l' urgent del que ?s important\, per tal de millorar 
 la nostra productivitat personal.\nAquests conceptes s?n universals i per
  treure'n el major partit cada persona ha de\nadaptar-los a les seves nec
 essitats en funci? del seu car?cter i la seva personalitat. </li></ol></t
 d>\n	</tr>\n	\n	\n\n<tr><td style="width:100px\; text-align: left\;">&nbs
 p\;Documentaci?:</td><td class="" style=""><p>&nbsp\;Documentaci?:Una veg
 ada finalitzada l?acci? formativa\, els alumnes obtindran un certificat d
 ?assist?ncia que es podran descarregar a la plataforma.</p><p>&nbsp\;</p>
 </td></tr><tr><td style="width:100px\; text-align: left\;">&nbsp\;Bonific
 acions:</td><td class="" style=""><p>&nbsp\;Gestionem els tr?mits per tal
  que puguis beneficiar-te de la bonificaci? corresponent per formaci?.</p
 ><p>&nbsp\;</p></td></tr><tr><td style="width:100px\; text-align: left\;"
 >&nbsp\;Instruccions per bonificar:</td><td class="" style=""><p>&nbsp\;1
 .&nbsp\;Sol?licita els impresos al CETIT a formacio@enginyerstarragona.ca
 t&nbsp\; &nbsp\;2. Aporta tota la informaci? 10 dies naturals abans de l'
 inici del curs.&nbsp\;3. NOTA IMPORTANT: les bonificacions es porten a te
 rme per mitj? d'una assessoria externa. Aquells que vulguin acollir-se a 
 la bonificaci? de qualsevol acci? formativa\, el preu s'incrementar? en u
 n 20 % ( que tamb? es podr? bonificar i recuperar).&nbsp\;</p><p>&nbsp\;<
 /p></td></tr><tr><td style="width:100px\; text-align: left\;">&nbsp\;Form
 a de pagament:</td><td class=""><p>&nbsp\;Cobrament a trav?s del seu n?me
 ro de compte\, que haur? de facilitar a l?hora de fer la inscripci?.</p><
 p>&nbsp\;</p></td></tr></tbody></table>
DTEND;TZID=Europe/Madrid:20211007T190000
DTSTAMP:20260423T020122Z
DTSTART;TZID=Europe/Madrid:20211007T160000
LOCATION:https://www.enginyerstarragona.cat/agenda/details/1721/1721-curs-
 on-line-streaming-productivitat-personal
SEQUENCE:0
SUMMARY:[Curs on line streaming]  PRODUCTIVITAT PERSONAL\, GESTI? DEL TEMP
 S I CANVI D'H?BITS
UID:ET_Activitat_1721
URL:https://www.enginyerstarragona.cathttps://www.enginyerstarragona.cat/a
 genda/details/1721/1721-curs-on-line-streaming-productivitat-personal
END:VEVENT
END:VCALENDAR
