BEGIN:VCALENDAR
PRODID:-//github.com/rianjs/ical.net//NONSGML ical.net 2.2//EN
VERSION:2.0
BEGIN:VEVENT
CATEGORIES:Activitats
CREATED;TZID=Europe/Madrid:20260423T040301
DESCRIPTION:<table class="table">\n	<tbody>\n	<tr><td style="width:100px\;
  text-align: left\;"><strong>&nbsp\;Modalitat:</strong></td><td style="te
 xt-align: left\;">On line streaming. Permet la retransmissi? en directe d
 el curs a trav?s de l'aula virtual amb la plataforma CISCO WEBEX. Es podr
 ? realitzar des del lloc que desitgi\, amb ordinador\, m?bil o tablet\, i
  permet realitzar el seguiment del curs en directe amb el professor/a\, p
 articipar en la resoluci? dels exercicis\, preguntar els dubtes in situ\,
  escoltar les consultes dels altres assistents i seguir les anotacions de
 l professor/a a la pissarra. Una vegada finalitzada la formaci? els assis
 tents podran consultar les gravacions del curs a la seva ?rea privada\, s
 i aquestes han estat pr?viament autoritzades pel professor/a del curs o e
 ntitat gestora.&nbsp\;&nbsp\;</td></tr><tr>\n		<td style="width:100px\; t
 ext-align: left\;"><strong>?Dates:</strong></td>\n		<td style="text-align
 : left\;">Del 28 de setembre al 5 d'octubre (dilluns i dimecres)</td>\n	<
 /tr>\n	<tr>\n		<td style="width:100px\; text-align: left\;"><strong>?Hora
 ri:</strong></td>\n		<td style="text-align: left\;">De les 16.00 a les 20
 .00 h</td>\n	</tr>\n	<tr>\n		<td style="width:100px\; text-align: left\;"
 ><strong>????Assistents:</strong></td>\n		<td style="text-align: left\;">
 6/25</td>\n	</tr>\n	<tr>\n		<td style="width:100px\; text-align: left\;">
 <strong>?Durada:</strong></td>\n		<td style="text-align: left\;">12 h lec
 tives (3 dies\, 4 hores)</td>\n	</tr>\n	<tr>\n		<td style="width:100px\; 
 text-align: left\;"><strong>?Programaci?:</strong></td>\n		<td style="tex
 t-align: left\;"><p><strong>Sessi?1:</strong></p><ul><li>Decret 176/2009 
 i ordenances municipals.</li><li>Evoluci? futura de la normativa.</li></u
 l><p><strong>Sessi? 2:</strong></p><ul><li>Procediments i m?todes de mesu
 ra</li><li>Avaluaci? de resultats.</li><li>Mitjans i equips.</li></ul><p>
 <strong>Sessi? 3:</strong></p><ul><li><span style="background-color: tran
 sparent\;">Casos pr?ctics: Plantejament\, discussi? i resoluci?.</span></
 li></ul></td>\n	</tr>\n	<tr>\n		<td style="width:100px\; text-align: left
 \;"><strong>?Documentaci?:</strong></td>\n		<td style="text-align: left\;
 ">La documentaci? estar? disponible a la plataforma entre 24 i 48 hores a
 bans de l?inici de la formaci?. En el cas que hi hagi documentaci? addici
 onal una vegada finalitzada la formaci?\, us la facilitarem posteriorment
 .</td>\n	</tr>\n	<tr>\n		<td style="width:100px\; text-align: left\;"><st
 rong>?Certificaci?:</strong></td>\n		<td style="text-align: left\;">Una v
 egada finalitzada l?acci? formativa\, els alumnes obtindran un certificat
  d?assist?ncia que es podran descarregar a la plataforma.  </td>\n	</tr>\
 n	<tr>\n		<td style="width:100px\; text-align: left\;"><strong>?Objectius
 :</strong></td>\n		<td style="text-align: left\;">Curs totalment online\,
  amb un part te?rica i una sessi? de discussi? de casos pr?ctics\, on el 
 que es pret?n ?s lla resoluci? de diferents situacions reals ambla partic
 ipaci? dels assistents al curs. </td>\n	</tr>\n	<tr>\n		<td style="width:
 100px\; text-align: left\;"><strong>?Bonificacions:</strong></td>\n		<td 
 style="text-align: left\;">Gestionem els tr?mits per tal que puguis benef
 iciar-te de la bonificaci? corresponent per formaci?.</td>\n	</tr>\n	<tr>
 \n		<td style="width:100px\; text-align: left\;"><strong>Instruccions per
  bonificar:</strong></td>\n		<td style="text-align: left\;"><p>\n1. Sol?l
 icita els impresos al CETIT a formacio@enginyerstarragona.cat\n</p><p>2. 
 Aporta tota la informaci? 10 dies naturals abans de l'inici del curs.\n</
 p><p>3. NOTA IMPORTANT:  les bonificacions es porten a terme per mitj? d'
 una assessoria externa. Aquells que vulguin acollir-se a la bonificaci? d
 e qualsevol acci? formativa\, el preu s'incrementar? en un  20 % ( que ta
 mb? es podr? bonificar i recuperar).\n</p></td>\n	</tr>\n\n</tbody></tabl
 e>
DTEND;TZID=Europe/Madrid:20200928T200000
DTSTAMP:20260423T020301Z
DTSTART;TZID=Europe/Madrid:20200928T160000
LOCATION:https://www.enginyerstarragona.cat/agenda/details/1581/1581-curs-
 on-line-streaming-mesura-i-avaluacio-de
SEQUENCE:0
SUMMARY:[Curs on line streaming]  MESURA I AVALUACI? DE LA CONTAMINACI? AC
 ?STICA
UID:ET_Activitat_1581
URL:https://www.enginyerstarragona.cathttps://www.enginyerstarragona.cat/a
 genda/details/1581/1581-curs-on-line-streaming-mesura-i-avaluacio-de
END:VEVENT
BEGIN:VEVENT
CATEGORIES:Activitats
CREATED;TZID=Europe/Madrid:20260423T040301
DESCRIPTION:<table class="table">\n	<tbody>\n	<tr><td style="width:100px\;
  text-align: left\;"><strong>&nbsp\;Modalitat:</strong></td><td style="te
 xt-align: left\;">On line streaming. Permet la retransmissi? en directe d
 el curs a trav?s de l'aula virtual amb la plataforma CISCO WEBEX. Es podr
 ? realitzar des del lloc que desitgi\, amb ordinador\, m?bil o tablet\, i
  permet realitzar el seguiment del curs en directe amb el professor/a\, p
 articipar en la resoluci? dels exercicis\, preguntar els dubtes in situ\,
  escoltar les consultes dels altres assistents i seguir les anotacions de
 l professor/a a la pissarra. Una vegada finalitzada la formaci? els assis
 tents podran consultar les gravacions del curs a la seva ?rea privada\, s
 i aquestes han estat pr?viament autoritzades pel professor/a del curs o e
 ntitat gestora.&nbsp\;&nbsp\;</td></tr><tr>\n		<td style="width:100px\; t
 ext-align: left\;"><strong>?Dates:</strong></td>\n		<td style="text-align
 : left\;">Del 28 de setembre al 5 d'octubre (dilluns i dimecres)</td>\n	<
 /tr>\n	<tr>\n		<td style="width:100px\; text-align: left\;"><strong>?Hora
 ri:</strong></td>\n		<td style="text-align: left\;">De les 16.00 a les 20
 .00 h</td>\n	</tr>\n	<tr>\n		<td style="width:100px\; text-align: left\;"
 ><strong>????Assistents:</strong></td>\n		<td style="text-align: left\;">
 6/25</td>\n	</tr>\n	<tr>\n		<td style="width:100px\; text-align: left\;">
 <strong>?Durada:</strong></td>\n		<td style="text-align: left\;">12 h lec
 tives (3 dies\, 4 hores)</td>\n	</tr>\n	<tr>\n		<td style="width:100px\; 
 text-align: left\;"><strong>?Programaci?:</strong></td>\n		<td style="tex
 t-align: left\;"><p><strong>Sessi?1:</strong></p><ul><li>Decret 176/2009 
 i ordenances municipals.</li><li>Evoluci? futura de la normativa.</li></u
 l><p><strong>Sessi? 2:</strong></p><ul><li>Procediments i m?todes de mesu
 ra</li><li>Avaluaci? de resultats.</li><li>Mitjans i equips.</li></ul><p>
 <strong>Sessi? 3:</strong></p><ul><li><span style="background-color: tran
 sparent\;">Casos pr?ctics: Plantejament\, discussi? i resoluci?.</span></
 li></ul></td>\n	</tr>\n	<tr>\n		<td style="width:100px\; text-align: left
 \;"><strong>?Documentaci?:</strong></td>\n		<td style="text-align: left\;
 ">La documentaci? estar? disponible a la plataforma entre 24 i 48 hores a
 bans de l?inici de la formaci?. En el cas que hi hagi documentaci? addici
 onal una vegada finalitzada la formaci?\, us la facilitarem posteriorment
 .</td>\n	</tr>\n	<tr>\n		<td style="width:100px\; text-align: left\;"><st
 rong>?Certificaci?:</strong></td>\n		<td style="text-align: left\;">Una v
 egada finalitzada l?acci? formativa\, els alumnes obtindran un certificat
  d?assist?ncia que es podran descarregar a la plataforma.  </td>\n	</tr>\
 n	<tr>\n		<td style="width:100px\; text-align: left\;"><strong>?Objectius
 :</strong></td>\n		<td style="text-align: left\;">Curs totalment online\,
  amb un part te?rica i una sessi? de discussi? de casos pr?ctics\, on el 
 que es pret?n ?s lla resoluci? de diferents situacions reals ambla partic
 ipaci? dels assistents al curs. </td>\n	</tr>\n	<tr>\n		<td style="width:
 100px\; text-align: left\;"><strong>?Bonificacions:</strong></td>\n		<td 
 style="text-align: left\;">Gestionem els tr?mits per tal que puguis benef
 iciar-te de la bonificaci? corresponent per formaci?.</td>\n	</tr>\n	<tr>
 \n		<td style="width:100px\; text-align: left\;"><strong>Instruccions per
  bonificar:</strong></td>\n		<td style="text-align: left\;"><p>\n1. Sol?l
 icita els impresos al CETIT a formacio@enginyerstarragona.cat\n</p><p>2. 
 Aporta tota la informaci? 10 dies naturals abans de l'inici del curs.\n</
 p><p>3. NOTA IMPORTANT:  les bonificacions es porten a terme per mitj? d'
 una assessoria externa. Aquells que vulguin acollir-se a la bonificaci? d
 e qualsevol acci? formativa\, el preu s'incrementar? en un  20 % ( que ta
 mb? es podr? bonificar i recuperar).\n</p></td>\n	</tr>\n\n</tbody></tabl
 e>
DTEND;TZID=Europe/Madrid:20200930T200000
DTSTAMP:20260423T020301Z
DTSTART;TZID=Europe/Madrid:20200930T160000
LOCATION:https://www.enginyerstarragona.cat/agenda/details/1581/1581-curs-
 on-line-streaming-mesura-i-avaluacio-de
SEQUENCE:0
SUMMARY:[Curs on line streaming]  MESURA I AVALUACI? DE LA CONTAMINACI? AC
 ?STICA
UID:ET_Activitat_1581
URL:https://www.enginyerstarragona.cathttps://www.enginyerstarragona.cat/a
 genda/details/1581/1581-curs-on-line-streaming-mesura-i-avaluacio-de
END:VEVENT
BEGIN:VEVENT
CATEGORIES:Activitats
CREATED;TZID=Europe/Madrid:20260423T040301
DESCRIPTION:<table class="table">\n	<tbody>\n	<tr><td style="width:100px\;
  text-align: left\;"><strong>&nbsp\;Modalitat:</strong></td><td style="te
 xt-align: left\;">On line streaming. Permet la retransmissi? en directe d
 el curs a trav?s de l'aula virtual amb la plataforma CISCO WEBEX. Es podr
 ? realitzar des del lloc que desitgi\, amb ordinador\, m?bil o tablet\, i
  permet realitzar el seguiment del curs en directe amb el professor/a\, p
 articipar en la resoluci? dels exercicis\, preguntar els dubtes in situ\,
  escoltar les consultes dels altres assistents i seguir les anotacions de
 l professor/a a la pissarra. Una vegada finalitzada la formaci? els assis
 tents podran consultar les gravacions del curs a la seva ?rea privada\, s
 i aquestes han estat pr?viament autoritzades pel professor/a del curs o e
 ntitat gestora.&nbsp\;&nbsp\;</td></tr><tr>\n		<td style="width:100px\; t
 ext-align: left\;"><strong>?Dates:</strong></td>\n		<td style="text-align
 : left\;">Del 28 de setembre al 5 d'octubre (dilluns i dimecres)</td>\n	<
 /tr>\n	<tr>\n		<td style="width:100px\; text-align: left\;"><strong>?Hora
 ri:</strong></td>\n		<td style="text-align: left\;">De les 16.00 a les 20
 .00 h</td>\n	</tr>\n	<tr>\n		<td style="width:100px\; text-align: left\;"
 ><strong>????Assistents:</strong></td>\n		<td style="text-align: left\;">
 6/25</td>\n	</tr>\n	<tr>\n		<td style="width:100px\; text-align: left\;">
 <strong>?Durada:</strong></td>\n		<td style="text-align: left\;">12 h lec
 tives (3 dies\, 4 hores)</td>\n	</tr>\n	<tr>\n		<td style="width:100px\; 
 text-align: left\;"><strong>?Programaci?:</strong></td>\n		<td style="tex
 t-align: left\;"><p><strong>Sessi?1:</strong></p><ul><li>Decret 176/2009 
 i ordenances municipals.</li><li>Evoluci? futura de la normativa.</li></u
 l><p><strong>Sessi? 2:</strong></p><ul><li>Procediments i m?todes de mesu
 ra</li><li>Avaluaci? de resultats.</li><li>Mitjans i equips.</li></ul><p>
 <strong>Sessi? 3:</strong></p><ul><li><span style="background-color: tran
 sparent\;">Casos pr?ctics: Plantejament\, discussi? i resoluci?.</span></
 li></ul></td>\n	</tr>\n	<tr>\n		<td style="width:100px\; text-align: left
 \;"><strong>?Documentaci?:</strong></td>\n		<td style="text-align: left\;
 ">La documentaci? estar? disponible a la plataforma entre 24 i 48 hores a
 bans de l?inici de la formaci?. En el cas que hi hagi documentaci? addici
 onal una vegada finalitzada la formaci?\, us la facilitarem posteriorment
 .</td>\n	</tr>\n	<tr>\n		<td style="width:100px\; text-align: left\;"><st
 rong>?Certificaci?:</strong></td>\n		<td style="text-align: left\;">Una v
 egada finalitzada l?acci? formativa\, els alumnes obtindran un certificat
  d?assist?ncia que es podran descarregar a la plataforma.  </td>\n	</tr>\
 n	<tr>\n		<td style="width:100px\; text-align: left\;"><strong>?Objectius
 :</strong></td>\n		<td style="text-align: left\;">Curs totalment online\,
  amb un part te?rica i una sessi? de discussi? de casos pr?ctics\, on el 
 que es pret?n ?s lla resoluci? de diferents situacions reals ambla partic
 ipaci? dels assistents al curs. </td>\n	</tr>\n	<tr>\n		<td style="width:
 100px\; text-align: left\;"><strong>?Bonificacions:</strong></td>\n		<td 
 style="text-align: left\;">Gestionem els tr?mits per tal que puguis benef
 iciar-te de la bonificaci? corresponent per formaci?.</td>\n	</tr>\n	<tr>
 \n		<td style="width:100px\; text-align: left\;"><strong>Instruccions per
  bonificar:</strong></td>\n		<td style="text-align: left\;"><p>\n1. Sol?l
 icita els impresos al CETIT a formacio@enginyerstarragona.cat\n</p><p>2. 
 Aporta tota la informaci? 10 dies naturals abans de l'inici del curs.\n</
 p><p>3. NOTA IMPORTANT:  les bonificacions es porten a terme per mitj? d'
 una assessoria externa. Aquells que vulguin acollir-se a la bonificaci? d
 e qualsevol acci? formativa\, el preu s'incrementar? en un  20 % ( que ta
 mb? es podr? bonificar i recuperar).\n</p></td>\n	</tr>\n\n</tbody></tabl
 e>
DTEND;TZID=Europe/Madrid:20201005T200000
DTSTAMP:20260423T020301Z
DTSTART;TZID=Europe/Madrid:20201005T160000
LOCATION:https://www.enginyerstarragona.cat/agenda/details/1581/1581-curs-
 on-line-streaming-mesura-i-avaluacio-de
SEQUENCE:0
SUMMARY:[Curs on line streaming]  MESURA I AVALUACI? DE LA CONTAMINACI? AC
 ?STICA
UID:ET_Activitat_1581
URL:https://www.enginyerstarragona.cathttps://www.enginyerstarragona.cat/a
 genda/details/1581/1581-curs-on-line-streaming-mesura-i-avaluacio-de
END:VEVENT
END:VCALENDAR
