BEGIN:VCALENDAR
PRODID:-//github.com/rianjs/ical.net//NONSGML ical.net 2.2//EN
VERSION:2.0
BEGIN:VEVENT
CATEGORIES:Activitats
CREATED;TZID=Europe/Madrid:20260424T211223
DESCRIPTION:Us recordem que la Fundaci? Polit?cnica de Catalunya\, en el s
 eu objectiu d'oferir una formaci? cont?nua de qualitat\, s convida a les 
 jornades Les Noves Tecnologies a debat\, en les quals es debatr? l'impact
 e que tenen i el repte que suposa utilitzar-les de manera estrat?gica en 
 la millora de la competitivitt de les empreses (acc?s lliure pe a tots el
 s col?legiats). Podeu obtenir major informaci? a la web de la FPC www.fpc
 .upc.es o b? a trav?s del seg?ent link: <u><a href="http://fpcweb.upc.es/
 butlletins/tar_inaug/tics/programaJornadesTic.htm"target="_blank">http://
 fpcweb.upc.es/butlletins/tar_inaug/tics/programaJornadesTic.htm</a></u> <
 br><br>\n\nAprofitem tamb? per a recordar-vos que el proper dia 12 de mar
 ?\, la FPC iniciar? el Programa de Postgrau de mySAP Business Suite. Us c
 onvidem a assistir a les Sessions Informatives personalitzades que organi
 tza la FPC per totes aquelles persones que hi estigueu interesades.<br><b
 r>\n\nPer obtenir major informaci?: <br>\n<u><a href="http://fpcweb.upc.e
 s/butlletins/tar_inaug/tics/SAP.htm" target="_blank">http://fpcweb.upc.es
 /butlletins/tar_inaug/tics/SAP.htm</a></u> \n\n\n
DTEND;TZID=Europe/Madrid;VALUE=DATE:20040313
DTSTAMP:20260424T191223Z
DTSTART;TZID=Europe/Madrid;VALUE=DATE:20040312
LOCATION:https://www.enginyerstarragona.cat/agenda/details/144/144-les-nov
 es-tecnologies-a-debat-i-mysap-busines
SEQUENCE:0
SUMMARY:LES NOVES TECNOLOGIES A DEBAT I MYSAP BUSINESS SUITE
UID:ET_Activitat_144
URL:https://www.enginyerstarragona.cathttps://www.enginyerstarragona.cat/a
 genda/details/144/144-les-noves-tecnologies-a-debat-i-mysap-busines
END:VEVENT
END:VCALENDAR
