BEGIN:VCALENDAR
PRODID:-//github.com/rianjs/ical.net//NONSGML ical.net 2.2//EN
VERSION:2.0
BEGIN:VEVENT
CATEGORIES:Activitats
CREATED;TZID=Europe/Madrid:20260423T095142
DESCRIPTION:<table class="agenda-tmpl" cellspacing="0" cellpadding="5">\n 
    <tbody>\n        <tr>\n            <td class="pivot" valign="top" styl
 e="width: 148px\;">\n            Codi circular:</td>\n            <td><br
 >\n            30/19</td>\n        </tr>\n        <tr>\n            <td c
 lass="pivot" valign="top">\n            Dates:</td>\n            <td><br>
 \n            30 de maig (dijous)<br>\n            </td>\n        </tr>\n
         <tr>\n            <td class="pivot" valign="top">\n            Ho
 rari:</td>\n            <td><br>\n            De les 9.00 a les 18.00 hor
 es&nbsp\; (1 hora per dinar). El preu inclou el dinar al Restaurant Or?ge
 n (Edifici Col?legi d'Advocats)<br>\n            </td>\n        </tr>\n  
       <tr>\n            <td class="pivot" valign="top">\n            Lloc
 :\n            </td>\n            <td><br>\n            A la seu del CETI
 T\, Av. de Roma\, 7 de Tarragona</td>\n        </tr>\n        <tr>\n     
        <td class="pivot" valign="top">Assistents m?nim/m?xim:</td>\n     
        <td>8/25</td>\n        </tr>\n        <tr>\n            <td class=
 "pivot" valign="top">\n            Durada:</td>\n            <td><br>\n  
           8 hores <br>\n            </td>\n        </tr>\n        <tr>\n 
            <td class="pivot" valign="top">\n            Professorat:</td>
 \n            <td><br>\n            Joan Ramirez Guasch.<br>\n           
  Consultor energ?tic de l'empresa TESLING.<br>\n            Ex-professor 
 associat del DEM de la URV i professor de m?ster de la UB. <br>\n        
     Professor de cursos de fotovoltaica i efici?ncia energ?tica a diferen
 ts col?legis d'enginyers de Catalunya<br>\n            </td>\n        </t
 r>\n        <tr>\n            <td class="pivot" valign="top">\n          
   Objectius:</td>\n            <td><br>\n            <strong>El passat 5 
 d'abril es va aprovar el RD 244/2019 que regula les condicions administra
 tives\, t?cniques i econ?miques del autoconsum d'energia el?ctrica.</stro
 ng><br>\n            <br>\n            Formar a t?cnics per a poder disse
 nyar adequadament instal?lacions d'energia solar foltovoltaica per autoco
 nsum en totes les modalitats que el RD 900/2015 contempla\, utilitzan un 
 programa de c?lcul de valoritzaci? energ?tica i definici? dels perfils de
  consum.<br>\n            <br>\n            L'autoconsum fotovoltaic ?s u
 na realitat que cada vegada s'implantar? m?s a Catalunya\, dins del pla e
 strat?gic de la Transici? energ?tica de Catalunya i l'impuls que lidera l
 'ICAEN.<br>\n            </td>\n        </tr>\n        <tr>\n            
 <td class="pivot" valign="top">\n            Continguts:</td>\n          
   <td><span style="background-image: none\; background-position: 0% 0%\; 
 background-size: initial\; background-repeat: repeat\; background-attachm
 ent: scroll\; background-origin: initial\; background-clip: initial\;"><b
 r>\n            <br>\n            <strong>1. Marc normatiu i conceptes b?
 sics</strong><br>\n            <br>\n            Marc legal de l?autocons
 um. RDL 15/2018\, RD 900/2015\, RD 1699/2011 i RD 842/2002 (REBT).<br>\n 
            Implicacions t?cniques del RD Autoconsum:<br>\n            <br
 >\n            - Tipus d?instal?lacions. Sol?licitud del punt de connexi?
 . Tr?mits amb la distribu?dora.<br>\n            - Autoconsum compartit. 
 Opcions.<br>\n            - Legalitzaci? i inscricpci? de les instal?laci
 ons. Registre admnistratiu d?autoconsum. Canal empresa.<br>\n            
 - Projecte t?cnic i mem?ria t?cnica de disseny. Certificat d?instal?laci?
 . Inspeccions inicials.<br>\n            - Injecci? zero. UNE 217001.<br>
 \n            - Normes t?cniques particulars de les distribu?dores.<br>\n
             <br>\n            <strong>2. Fonaments t?cnics de disseny i f
 uncionament<br>\n            </strong><br>\n            - An?lisi del per
 fil de consum. Monitoritzacions de consums. Perfils de consum constants o
  estacionals.<br>\n            Diferents tipus de perfils de consum diari
 s. Les tarifes el?ctriques i la discriminaci? hor?ria. Tarifes 3.0.<br>\n
             Exemples a partir de factures de clients.<br>\n            - 
 Radiaci? solar. Hor?ria i mensual. Bases de dades. C?lcul de la producci?
  solar (diferents m?todes de<br>\n            c?lcul\, eines i recursos).
  Disponibilitat d?espai de la coberta. Ombres llunyanes i properes. C?lcu
 l<br>\n            d?ombres. Solucions en configuraci? per ombres.<br>\n 
            - Caracter?stiques t?cniques\, de disseny i de funcionament de
  tots els equips que formen part d?una<br>\n            instal?laci? sola
 r (m?duls\, onduladors\, aparamenta el?ctrica\, quadres de proteccions DC
  i AC\, etc.).<br>\n            Sistemes de muntatge i fixaci?. Mantenime
 nt i operaci? de les instal?lacions. Configuraci? de strings.<br>\n      
       Condicions de disseny.<br>\n            <br>\n            <strong>3
 . Esquemes de les instal?lacions fotovoltaiques d'autoconsum<br>\n       
      </strong><br>\n            En aquest bloc es presenten els esquemes 
 b?sics de configuraci? de tots els tipus d'instal?lacions<br>\n          
   fotovoltaiques d'autoconsum i la comparativa amb les altres modalitats 
 existents (assistides\, a?llades i<br>\n            interconnectades).<br
 >\n            Esquema b?sic de les instal?lacions fotovoltaiques d'autoc
 onsum (amb i sense gesti? d?excedents).<br>\n            Esquema b?sic de
  les instal?lacions fotovoltaiques d'autoconsum amb acumulaci? el?ctrica.
  Bateries<br>\n            Comparativa amb esquema b?sic de les instal?la
 cions fotovoltaiques aut?nomes amb els diferents<br>\n            tipus d
 e bateries que hi ha actualment.<br>\n            Diferents formes de rep
 resentar esquemes unifilars i de configuraci?. Lay outs.<br>\n           
  <br>\n            <strong>4. C?lcul i disseny d'instal?lacions solars fo
 tovoltaiques d'autoconsum. Valoritzaci?<br>\n            energ?tica. Soft
 wares de c?lcul<br>\n            </strong><br>\n            Dimensionamen
 t detallat d'una instal?laci? d'autoconsum<br>\n            - C?lcul de l
 a pot?ncia ?ptima segons factures o perfils de consum (horaris\, mensuals
 ).<br>\n            - Implantaci? dels m?duls sobre coberta.<br>\n       
      - Onduladors. Centralitzats o descentralitzats. Configuraci? de stri
 ngs.<br>\n            - Cobertura solar vs rati d?autoconsum.<br>\n      
       - Valoritzaci? de l'energia generada.<br>\n            - C?lculs el
 ?ctrics. Proteccions. Cablejats i caigudes de tensi?.<br>\n            <b
 r>\n            <strong>5. Resoluci? d?exercicis. Exemples de c?lcul<br>\
 n            </strong><br>\n            Resoluci? d?exemples de c?lcul i 
 disseny utilitzant diferents recursos i eines inform?tiques\, fulles exce
 l i<br>\n            softwares de configuraci? (SUNNY DESIGN\, Ampere ene
 rgy\, PIKO PLAN). Definir els perfils de consum a<br>\n            partir
  de factures el?ctriques o monitoritzacions. Importar consums horaris rea
 ls. Implantaci? en planta dels<br>\n            m?duls (lay out). Dibuix 
 d?esquemes unifilars. C?lculs el?ctrics. Informes i propostes t?cniques i
  comercials.<strong><br>\n            </strong></span></td>\n        </tr
 >\n        <tr>\n            <td class="pivot" valign="top">\n           
  Destinataris:</td>\n            <td><br>\n            El curs est? desti
 nat a professionals que es vulguin dedicar o aprofundir en l?assessoramen
 t energ?tic\, les auditories energ?tiques\, etc. en l?especialitat d?inst
 al?lacions solars fotovoltaiques per autoconsum.</td>\n        </tr>\n   
      <tr>\n            <td class="pivot" valign="top">\n            Docum
 entaci?:</td>\n            <td><br>\n            Es lliurar? documentaci?
  de seguiment digitalment\, via correu electr?nic.<br>\n            </td>
 \n        </tr>\n        <tr>\n            <td class="pivot" valign="top"
 ><br>\n            </td>\n        </tr>\n        <tr>\n            <td cl
 ass="pivot" valign="top" style="text-align: left\;">\n            Instruc
 cions per bonificar:</td>\n            <td>\n            <p>1.Sol?licita 
 els impresos al CETIT a formacio@enginyerstarragona.cat</p>\n            
 <p>2.Aporta tota la informaci? 10 dies naturals abans de l'inici del curs
 .</p>\n            <p>3.Nota important:&nbsp\; les gestions de les bonifi
 cacions es porten a terme per mitj? d'una assessoria externa. Aquells que
  vulguin acollir-se a la bonificaci? de qualsevol acci? formativa\, el pr
 eu s'incrementar? en un 10-20 % (que tamb? es podr? bonificar i recuperar
 )</p>\n            </td>\n        </tr>\n        <tr>\n            <td cl
 ass="pivot" valign="top">Bonificacions:<br>\n            </td>\n         
    <td><br>\n            Gestionem els tr?mits per tal que puguis benefic
 iar-te de la bonificaci? corresponent per formaci?.</td>\n        </tr>\n
         <tr>\n            <td class="pivot" valign="top">\n            Fo
 rma de pagament:</td>\n            <td><br>\n            Cobrarem a trav?
 s del seu n?mero de compte\, que haur? de facilitar a l'hora de fer la in
 scripci?.</td>\n        </tr>\n        <tr>\n            <td class="pivot
 " valign="top">\n            Certificaci?:<br>\n            <br>\n       
      <br>\n            <br>\n            </td>\n            <td>Es lliura
 r? un certificat d'acreditaci? i assit?ncia a la finalitzaci? de la forma
 ci?. Aquells que sol?licitin bonificar el curs a trav?s de la Fundaci? Tr
 ipartita para la Formaci?n del Empleo\, tamb? tindran un certificat em?s 
 per la FTFE<br>\n            </td>\n        </tr>\n        <tr>\n        
     <td class="pivot" valign="top">&nbsp\;Acreditaci? Professional<br>\n 
            </td>\n            <td><br>\n            Aquesta formaci? ?s c
 ompetent per acreditar davant el COGITI la teva formaci?.<br>\n          
   M?s informaci?:&nbsp\; http://www.acreditacioncogitidpc.es <br>\n      
       </td>\n        </tr>\n    </tbody>\n</table>\n<br>
DTEND;TZID=Europe/Madrid:20190530T180000
DTSTAMP:20260423T075142Z
DTSTART;TZID=Europe/Madrid:20190530T090000
LOCATION:https://www.enginyerstarragona.cat/agenda/details/1391/1391-calcu
 l-i-disseny-dinstallacions-solars-fotovo
SEQUENCE:0
SUMMARY:C?LCUL I DISSENY D'INSTAL?LACIONS SOLARS FOTOVOLTAIQUES PER AUTOCO
 NSUM. NOU RD 244/2019
UID:ET_Activitat_1391
URL:https://www.enginyerstarragona.cathttps://www.enginyerstarragona.cat/a
 genda/details/1391/1391-calcul-i-disseny-dinstallacions-solars-fotovo
END:VEVENT
END:VCALENDAR
