BEGIN:VCALENDAR
PRODID:-//github.com/rianjs/ical.net//NONSGML ical.net 2.2//EN
VERSION:2.0
BEGIN:VEVENT
CATEGORIES:Activitats
CREATED;TZID=Europe/Madrid:20260421T055443
DESCRIPTION:<table class="table">\n        <tbody><tr>\n            <td st
 yle="width: 148px\;" valign="top" class="pivot">\n                Codi ci
 rcular:</td>\n            <td>&nbsp\;45/18</td>\n        </tr>\n        <
 tr>\n            <td valign="top" class="pivot">\n                Dates:<
 /td>\n            <td>18 de setembre (dimarts)&nbsp\;</td>\n        </tr>
 \n        <tr>\n            <td valign="top" class="pivot">\n            
     Horari:</td>\n            <td>De les 18.30 a les 20.00 hores</td>\n  
       </tr>\n    <tr>\n        <td valign="top" class="pivot">\n         
    Lloc:\n        </td>\n        <td>SALTOKI TORTOSA&nbsp\;</td>\n    </t
 r>\n        \n        <tr>\n            <td valign="top" class="pivot">\n
                 Durada:</td>\n            <td>1.5 hores aproximadament</t
 d>\n        </tr>\n        <tr>\n            <td valign="top" class="pivo
 t">\n                Professorat:</td>\n            <td>Oriol Montserrat\
 , product manager de punts de rec?rrega de vehicle el?ctric de Saltoki i 
 Xavier Oca?a\, enginyer de Saltoki Tortosa&nbsp\;</td>\n        </tr>\n  
       \n        <tr>\n            <td valign="top" class="pivot">\n      
           Programa:</td>\n            <td>1. EL VEHICLE EL?CTRIC: EUROPA 
 I ESPANYA<br>2. PUNTS DE REC?RREGA A SALTOKI<br>- Equips de rec?rrega Sal
 toki<br>- Modes de c?rrega<br>- Instal?laci? dels equips: Instal?laci? El
 ?ctrica i Obra Civil<br>- Reparaci? i manteniment<br>3. NORMATIVA VIGENT 
 DELS PUNTS DE REC?RREGA<br>- Esquemes d'instal?laci? possibles. Casos m?s
  habituals<br>- Proteccions<br>- Contatge de l'energia<br>- Gesti? de la 
 pot?ncia disponible<br>- Legalitzaci? de les instal?lacions<br>4. EXEMPLE
 S PR?CTICS I PROBLEM?TIQUES M?S COMUNES<br>5. ALTRES ASPECTES: BACK OFFIC
 E\, SUBVENCIONS\, ...<br>6. PRECS I PREGUNTES&nbsp\; &nbsp\; &nbsp\; &nbs
 p\; &nbsp\; &nbsp\; &nbsp\; &nbsp\; &nbsp\;<br><p class="">&nbsp\;</p></t
 d>\n        </tr>\n        <tr>\n            <td valign="top" class="pivo
 t">\n                Destinataris:</td>\n            <td>Enginyers\, Arqu
 itectes i Instal?ladors autoritzats per la instal?laci? dels mateixos&nbs
 p\;</td>\n        </tr>\n         \n         \n        \n         \n     
     \n         <tr>\n            <td valign="top" class="pivot"><br></td>
 \n            <td>LA INSCRIPCI? ?S GRATU?TA</td>\n        </tr>\n        
 </tbody></table>
DTEND;TZID=Europe/Madrid;VALUE=DATE:20180919
DTSTAMP:20260421T035443Z
DTSTART;TZID=Europe/Madrid;VALUE=DATE:20180918
LOCATION:https://www.enginyerstarragona.cat/agenda/details/1350/1350-a-les
 -terres-de-lebre-jornada-installacio-man
SEQUENCE:0
SUMMARY:[A LES TERRES DE L'EBRE] Jornada INSTAL?LACI?\, MANTENIMENT I LEGA
 LITZACI? DE PRODUCTES PER LA REC?RREGA DE VEHICLES EL?CTRICS
UID:ET_Activitat_1350
URL:https://www.enginyerstarragona.cathttps://www.enginyerstarragona.cat/a
 genda/details/1350/1350-a-les-terres-de-lebre-jornada-installacio-man
END:VEVENT
END:VCALENDAR
