BEGIN:VCALENDAR
PRODID:-//github.com/rianjs/ical.net//NONSGML ical.net 2.2//EN
VERSION:2.0
BEGIN:VEVENT
CATEGORIES:Activitats
CREATED;TZID=Europe/Madrid:20260420T235828
DESCRIPTION:<table class="agenda-tmpl" cellspacing="0" cellpadding="5">\n 
    <tbody>\n        <tr>\n            <td class="pivot" valign="top" styl
 e="width: 148px\;"><span style="color: rgb(227\, 108\, 9)\;"><strong>\n  
           Codi circular:</strong></span></td>\n            <td>&nbsp\;<br
 >\n            <span style="color: rgb(38\, 38\, 38)\;">\n            86/
 15&nbsp\;</span></td>\n        </tr>\n        <tr>\n            <td class
 ="pivot" valign="top"><span style="color: rgb(227\, 108\, 9)\;"><strong>\
 n            Dates:</strong></span></td>\n            <td>&nbsp\;<span st
 yle="color: rgb(38\, 38\, 38)\;"><br>\n            del 20 de novembre a j
 uny (divendres)</span><br>\n            </td>\n        </tr>\n        <tr
 >\n            <td class="pivot" valign="top"><span style="color: rgb(227
 \, 108\, 9)\;"><strong>\n            Horari:</strong></span></td>\n      
       <td>\n            &nbsp\;<br>\n            <span style="color: rgb(
 38\, 38\, 38)\;">\n            de les 17.30 a les 19.00 hores</span></td>
 \n        </tr>\n        <tr><td class="pivot" valign="top"><strong style
 ="color: rgb(227\, 108\, 9)\;">Lloc:</strong></td><td>A les instal?lacion
 s del CETIT de les Terres de l'Ebre\, carrer Mercaders\, 2 de Tortosa</td
 ></tr><tr>\n            <td class="pivot" valign="top"><span style="color
 : rgb(227\, 108\, 9)\;"><strong>\n            Assistents m?nim/m?xim:</st
 rong></span></td>\n            <td>&nbsp\;<br>\n            <span style="
 color: rgb(38\, 38\, 38)\;">\n            6/10</span></td>\n        </tr>
 \n        <tr>\n            <td class="pivot" valign="top"><span style="c
 olor: rgb(227\, 108\, 9)\;"><strong>\n            Durada:</strong></span>
 </td>\n            <td>&nbsp\;<br>\n            <span style="color: rgb(3
 8\, 38\, 38)\;">\n            35 hores aprox.</span></td>\n        </tr>\
 n        <tr>\n            <td class="pivot" valign="top"><span style="co
 lor: rgb(227\, 108\, 9)\;"><strong>\n            Professorat:</strong></s
 pan></td>\n            <td>&nbsp\;<br><span style="color: rgb(38\, 38\, 3
 8)\;"><span style="color: rgb(38\, 38\, 38)\;"></span></span><span style=
 "color: rgb(38\, 38\, 38)\;">Amparo Aymerich Bort\, llicenciada Filologia
  Anglogerm?nica. Especialitzada en ensenyament d?Alemany a adults.</span>
 </td>\n        </tr>\n        <tr>\n            <td class="pivot" valign=
 "top"><span style="color: rgb(227\, 108\, 9)\;"><strong>\n            Obj
 ectius:</strong></span></td>\n            <td>\n            <span style="
 color: rgb(38\, 38\, 38)\;">\n            <p>Saludar i presentar-se</p><p
 >Presentar-se i presentar a altres</p><p>Parlar d?un mateix i d?altres pe
 rsones</p><p>Donar i demanar el n?mero de tel?fon\, l?e-mail\,...</p><p>P
 arlar de lleng?es i pa?sos</p><p>Parlar dels hobbies i aficions</p><p>Que
 dar</p><p>Parlar de la feina\, de les professions i els horaris de trebal
 l</p><p>Parlar de les estacions de l?any</p><p>Crear un perfil fictici a 
 Internet</p><p>Anomenar lloc i edificis</p><p>Fer preguntes sobre els dif
 erents llocs</p><p>Assabentar-se d?informaci? rellevant</p><p>Anomenar mi
 tjans de transports</p><p>Preguntar per una ruta i descriure-la</p><p>Par
 lar de menjar</p><p>Organitzar la compra</p><p>Converses senzilles en la 
 tenda\, supermecat\,...</p><p>Converses senzilles en taula\,...</p></span
 ></td>\n        </tr>\n        <tr>\n            <td class="pivot" valign
 ="top"><span style="color: rgb(227\, 108\, 9)\;"><strong>\n            Co
 ntinguts:</strong></span></td>\n            <td><p>Textos:<br>Orals i esc
 rits relacionats amb les diverses situacions comunicatives a tractar dura
 nt el curs.<br><br>Vocabulari:</p> <ul><li>Pa?sos</li><li>Lleng?es</li><l
 i>Hobbies</li><li>Dies de la setmana</li><li>N?meros</li><li>Professions<
 /li><li>Mesos i estacions de l?any</li><li>Llocs representatius d?una ciu
 tat</li><li>Esdeveniments culturals</li><li>Horaris de menjar\, menjades.
 ...</li><li>Aliments i begudes</li><li>Comer?os</li></ul> <p>Gram?tica:</
 p> <ul><li>Posici? del verb a la frase: Frases enunciatives\, frases inte
 rrogatives: W-Frage i Ja/Nein-Frage\, verbs i pronoms personals</li><li>A
 rticles: Determinat\, Indeterminat\, Negatiu</li><li>Verbs i Pronoms pers
 onals</li><li>Ja-/Nein- Frage</li><li>Plural dels substantius</li><li>Imp
 eratiu</li><li>Acusatiu</li></ul><p><span style="color: rgb(38\, 38\, 38)
 \;"></span></p>\n            </td>\n        </tr>\n        <tr>\n        
     <td class="pivot" valign="top"><span style="color: rgb(227\, 108\, 9)
 \;"><strong>Destinataris:</strong></span></td>\n            <td><span sty
 le="color: rgb(38\, 38\, 38)\;"><p>Aquest curs est? adre?at a totes les p
 ersones interessades en familiaritzar-se amb la llengua alemanya de maner
 a efectiva en unes classes participatives i l?diques.</p>\n            </
 span></td>\n        </tr>\n        \n        <tr>\n            <td class=
 "pivot" valign="top"><span style="color: rgb(227\, 108\, 9)\;"><strong>Do
 cumentaci?:</strong></span></td>\n            <td>\n            <span sty
 le="color: rgb(38\, 38\, 38)\;">\n            Es lliurar? documentaci? de
  seguiment.</span></td>\n        </tr>\n        <tr>\n            <td cla
 ss="pivot" valign="top"><span style="color: rgb(227\, 108\, 9)\;"><strong
 >\n            Que ?s la FTFE?</strong></span></td>\n            <td>\n  
           <span style="color: rgb(38\, 38\, 38)\;"><strong><a href="http:
 //www.cetit.cat/public/continguts/contingut/67"></a></strong>La FUNDACI?N
  TRIPARTITA PARA LA FORMACI?N EN EL EMPLEO ?s l'?rgan que regula\, contro
 la i administra el cr?dit anual que totes les empreses disposen per forma
 r als seus treballadors. Amb aquest cr?dit les bonificacions es dedueixen
  a trav?s dels pagaments a la Seguritat Social\, per mitj? dels TCs. Qui 
 pot bonificar? Treballadors que cotitzin en el r?gim general.<br></span><
 /td>\n        </tr>\n        <tr>\n            <td class="pivot" valign="
 top"><span style="color: rgb(227\, 108\, 9)\;"><strong>\n            Inst
 ruccions <br>\n            per bonificar:</strong></span></td>\n         
    <td>\n            <br>\n            1. Sol?licita els impresos al CETI
 T<br>\n            <span style="color: rgb(38\, 38\, 38)\;">2. Aporta tot
 a la informaci? 7 dies naturals abans de l'inici del curs.</span><br>\n  
           </td>\n        </tr>\n        <tr>\n            <td class="pivo
 t" valign="top"><span style="color: rgb(227\, 108\, 9)\;"><strong>\n     
        Forma de pagament:</strong></span></td>\n            <td>\n       
      <span style="color: rgb(38\, 38\, 38)\;">\n            Cobrament a t
 rav?s del seu n?mero de compte\, que haur? de facilitar a l?hora de\n    
         fer la inscripci?.</span></td>\n        </tr>\n        <tr>\n    
         <td class="pivot" valign="top"><span style="color: rgb(227\, 108\
 , 9)\;"><strong>\n            Certificaci?:</strong></span></td>\n       
      <td>\n            <span style="color: rgb(38\, 38\, 38)\;">\n       
      Es lliurar? un certificat d'acreditaci? i assist?ncia a la finalitza
 ci? de la\n            formaci?. Aquells que sol?licitin bonificar el cus
  a trav?s de la Fundaci?\n            Tripartita para la Formaci?n en el 
 Empleo\, tamb? tindran un certificat em?s per\n            la FTFE.</span
 ></td>\n        </tr>\n        <tr>\n            <td class="pivot" valign
 ="top"><span style="color: rgb(227\, 108\, 9)\;"><strong>\n            Ac
 reditaci? Professional:</strong></span></td>\n            <td>\n         
    <span style="color: rgb(38\, 38\, 38)\;">\n            Aquesta formaci
 ? ?s competent per acreditar davant del COGITI la teva formaci?. <br>\n  
           Mes informaci?: <a href="http://www.acreditacioncogitidpc.es" t
 arget="_blank">http://www.acreditacioncogitidpc.es</a></span></td>\n     
    </tr>\n    </tbody>\n</table>\n<br>
DTEND;TZID=Europe/Madrid:20151120T190000
DTSTAMP:20260420T215828Z
DTSTART;TZID=Europe/Madrid:20151120T173000
LOCATION:https://www.enginyerstarragona.cat/agenda/details/1166/1166-curs-
 a-les-terres-de-lebre-sobre-alemany-pass
SEQUENCE:0
SUMMARY:Curs A LES TERRES DE L'EBRE sobre ALEMANY: passa-t'ho be aprenent 
 l'idioma
UID:ET_Activitat_1166
URL:https://www.enginyerstarragona.cathttps://www.enginyerstarragona.cat/a
 genda/details/1166/1166-curs-a-les-terres-de-lebre-sobre-alemany-pass
END:VEVENT
END:VCALENDAR
