BEGIN:VCALENDAR
PRODID:-//github.com/rianjs/ical.net//NONSGML ical.net 2.2//EN
VERSION:2.0
BEGIN:VEVENT
CATEGORIES:Activitats
CREATED;TZID=Europe/Madrid:20260422T041940
DESCRIPTION:<table cellspacing="0" cellpadding="5" class="agenda-tmpl">\n 
    <tbody>\n        <tr>\n            <td style="width: 148px\;">&nbsp\;<
 /td>\n            <td style="text-align: justify\;"><span style="color: #
 ff0000\;"><strong>TRANSM?S PER VIDEOCONFER?NCIA A LES INSTAL?LACIONS DE L
 ES TERRES DE L'EBRE</strong></span></td>\n        </tr>\n        <tr>\n  
           <td style="width: 148px\;"><strong><br>\n            <span styl
 e="color: #e36c09\;">\n            Codi circular:</span></strong></td>\n 
            <td>&nbsp\;<br>\n            01/ 14\n            </td>\n      
   </tr>\n        <tr>\n            <td valign="top"><strong><br>\n       
      <span style="color: #e36c09\;">\n            Dates:</span></strong><
 /td>\n            <td>&nbsp\; <br>\n            <span style="text-decorat
 ion: line-through\;">\n            del 25 de mar? al 17 de juny (dimarts)
 <br>\n            </span><br>\n            del 27 de mar? al 19 de juny (
 dijous)\n            </td>\n        </tr>\n        <tr>\n            <td 
 valign="top"><strong><br>\n            <span style="color: #e36c09\;">\n 
            Horari:</span></strong></td>\n            <td>&nbsp\;<span sty
 le="font-size: 18px\;"><br>\n            </span><span style="font-family:
  Arial\;"><span style="color: #3f3f3f\;">Classes presencials els dimarts\
 , de les 16.00 a les 20.00 h</span><br>\n            </span></td>\n      
   </tr>\n        <tr>\n            <td valign="top"><strong style="font-f
 amily: Arial\;"><br>\n            <span style="color: #e36c09\;">\n      
       Lloc:</span></strong></td>\n            <td>&nbsp\;<br>\n          
   Seu del CETIT\, Avinguda de Roma\, 7 de Tarragona</td>\n        </tr>\n
         <tr>\n            <td valign="top"><strong><br>\n            <spa
 n style="color: #e36c09\;">\n            Assistents m?nim / m?xim:</span>
 <br>\n            </strong></td>\n            <td><span style="font-size:
  18px\; color: #3f3f3f\;">&nbsp\; </span>25</td>\n        </tr>\n        
 <tr>\n            <td valign="top"><strong><br>\n            <span style=
 "color: #e36c09\;">\n            Durada:</span></strong></td>\n          
   <td>&nbsp\; <br>\n            81 hores (41 presencials\; 40 a dist?ncia
 )<br>\n            </td>\n        </tr>\n        <tr>\n            <td va
 lign="top"><strong><br>\n            <span style="color: #e36c09\;">\n   
          Professorat:</span></strong></td>\n            <td><strong><br>\
 n            </strong>\n            ?scar Centelles\,&nbsp\;ETI Ajuntamen
 t de Cambrils.<br>\n            <br>\n            Albert Gonz?lez\, Arqui
 tecte. Servei de Prevenci? de la Direcci? General de Prevenci? i Extinci?
  d'Incendis i Salvaments. Generalitat de Catalunya.<br>\n            <br>
 \n            Daniel Magadaleno. ETI.&nbsp\;Servei de Prevenci? de la Dir
 ecci? General de Prevenci? i Extinci? d'Incendis i Salvaments. Generalita
 t de Catalunya.<br>\n            <br>\n            Marc Sans. Enginyer In
 dustrial.&nbsp\;Servei de Prevenci? de la Direcci? General de Prevenci? i
  Extinci? d'Incendis i Salvaments. Generalitat de Catalunya.<br>\n       
      <br>\n            Albert Ventosa. Enginyer Industrial. Unitat de Pre
 venci? de la Regi? d'Emerg?ncies de Tarragona. Direcci? General de Preven
 ci? i Extinci? d'Incendis i Salvament. Generalitat de Catalunya.<span sty
 le="font-family: Arial\;"><br>\n            </span></td>\n        </tr>\n
         <tr>\n            <td valign="top"><strong><span style="color: #e
 36c09\;">Objectius</span></strong></td>\n            <td>\n            Pr
 oporcionar una visi? de tot el conjunt de sistemes\, equips i mesures t?c
 niques de prevenci? i seguretat en cas d'incendi als edificis\, derivades
  de les exig?ncies reglament?ries corresponents\, per tal de formar perso
 nal t?cnic en aquest camp i amb la possibilitat d'obtenir la certificaci?
  t?cnica de nivell b?sic en prevenci? d'incendis\, en cas de superaci? i 
 posterior aprovaci? de l'ex?men d'avaluaci? de l'ISPC (Institut de Segure
 tat P?blica de Catalunya).<br>\n            </td>\n        </tr>\n       
  <tr>\n            <td valign="top"><strong><br>\n            <span style
 ="color: #e36c09\;">\n            Continguts:</span></strong></td>\n     
        <td>&nbsp\; <br>\n            vegeu enlla?os d'inter?s<br>\n      
       </td>\n        </tr>\n        <tr>\n            <td valign="top"><s
 trong><br>\n            <span style="color: #e36c09\;">\n            Dest
 inataris:</span></strong></td>\n            <td>&nbsp\;<br>\n            
 Enginyers t?cnics\, enginyers industrials\, arquitectes t?cnics\, arquite
 ctes o d'altres titulacions t?cniques\, que participin en el proc?s de pr
 ojecte\, direcci? d'obra\, legalitzaci?\, supervisi? administrativa i/o i
 nspecci?.<br>\n            </td>\n        </tr>\n        <tr>\n          
   <td valign="top"><strong><br>\n            <span style="color: #e36c09\
 ;">\n            Documentaci?:</span></strong></td>\n            <td>\n  
           Es lliurar? documentaci? de seguiment.<br>\n            </td>\n
         </tr>\n        <tr>\n            <td valign="top"><strong><br>\n 
            <span style="color: #e36c09\;">\n            Qu? es la FTFE?</
 span></strong></td>\n            <td>\n            <p><span style="font-f
 amily: 'Times New Roman'\; font-size: 18px\; color: #3f3f3f\;">\n        
     </span></p>\n            <p>La&nbsp\;FUNDACI?N TRIPARTITA PARA LA FOR
 MACI?N EN EL EMPLEO&nbsp\;?s l'?rgan que regula\, controla i administra e
 l cr?dit anual que totes les empreses disposen per formar als seus trebal
 ladors.&nbsp\;<br>\n            <br>\n            Amb aquest cr?dit les b
 onificacions es dedueixen a trav?s dels pagaments a la Seguritat Social\,
  per mitj? dels TCs.<br>\n            <br>\n            Qui pot bonificar
 ?<br>\n            <br>\n            Treballadors que cotitzin en el r?gi
 m general.<br>\n            <br>\n            EXEMPLE:&nbsp\;Un curs que 
 el preu ?s 100 ? on es bonifica el 100 % de l'import\, l'empresa haur? de
  pagar - 100 ? a la Seguretat Social\, per mitj? dels TCs.<span><strong><
 br>\n            </strong></span></p>\n            </td>\n        </tr>\n
         <tr>\n            <td valign="top"><strong><br>\n            <spa
 n style="color: #e36c09\;">\n            Instruccions<br>\n            pe
 r bonificar:</span></strong></td>\n            <td>\n            1. Sol?l
 icita els impresos al CETIT.<br>\n            2. Aporta tota la informaci
 ? 7 dies naturals abans de l'inici del curs.<br>\n            </td>\n    
     </tr>\n        <tr>\n            <td valign="top"><br>\n            <
 strong><span style="color: #e36c09\;">Pagament:</span></strong></td>\n   
          <td>\n            Cobrament a trav?s del seu n?mero de compte\, 
 que haur? de facilitar a l?hora de fer la inscripci?.<br>\n            </
 td>\n        </tr>\n        <tr>\n            <td valign="top"><strong><b
 r>\n            <span style="color: #e36c09\;">\n            Certificaci?
 :</span></strong></td>\n            <td><span style="color: #3f3f3f\;"><b
 r>\n            </span>\n            Es lliurar? un certificat d'acredita
 ci? i assist?ncia a la finalitzaci? de la formaci?. Aquells que sol?licit
 in bonificar el cus a trav?s de la Fundaci? Tripartita para la Formaci?n 
 en el Empleo\, tamb? tindran un certificat em?s per la FTFE.<br>\n       
      </td>\n        </tr>\n        <tr>\n            <td valign="top"><st
 rong><br>\n            <span style="color: #e36c09\;">\n            Acred
 itaci? Professional:</span></strong></td>\n            <td>\n            
 Aquesta formaci? ?s competent per acreditar davant del COGITI la teva for
 maci?.&nbsp\;<br>\n            <br>\n            Mes informaci?:&nbsp\;<a
  target="_blank" href="http://www.acreditacioncogitidpc.es/">http://www.a
 creditacioncogitidpc.e</a>s<span style="color: #3f3f3f\;"><br>\n         
    </span>\n            <br>\n            </td>\n        </tr>\n    </tbo
 dy>\n</table>
DTEND;TZID=Europe/Madrid:20140327T200000
DTSTAMP:20260422T021940Z
DTSTART;TZID=Europe/Madrid:20140327T160000
LOCATION:https://www.enginyerstarragona.cat/agenda/details/1025/1025-certi
 ficacio-tecnica-de-nivell-basic-en-lambi
SEQUENCE:0
SUMMARY:CERTIFICACI? T?CNICA DE NIVELL B?SIC EN L'?MBIT DE LA PREVENCI? I 
 SEGURETAT EN MAT?RIA D'INCENDIS
UID:ET_Activitat_1025
URL:https://www.enginyerstarragona.cathttps://www.enginyerstarragona.cat/a
 genda/details/1025/1025-certificacio-tecnica-de-nivell-basic-en-lambi
END:VEVENT
END:VCALENDAR
